BEGIN:VCALENDAR
VERSION:2.0
PRODID:-//Sycamore Hills Golf Club - ECPv6.15.18//NONSGML v1.0//EN
CALSCALE:GREGORIAN
METHOD:PUBLISH
X-ORIGINAL-URL:https://www.sycamorehillsgolf.com
X-WR-CALDESC:Events for Sycamore Hills Golf Club
REFRESH-INTERVAL;VALUE=DURATION:PT1H
X-Robots-Tag:noindex
X-PUBLISHED-TTL:PT1H
BEGIN:VTIMEZONE
TZID:UTC
BEGIN:STANDARD
TZOFFSETFROM:+0000
TZOFFSETTO:+0000
TZNAME:UTC
DTSTART:20250101T000000
END:STANDARD
END:VTIMEZONE
BEGIN:VEVENT
DTSTART;TZID=UTC:20260426T080000
DTEND;TZID=UTC:20260426T140000
DTSTAMP:20260426T024101
CREATED:20260107T142455Z
LAST-MODIFIED:20260107T142455Z
UID:10000918-1777190400-1777212000@www.sycamorehillsgolf.com
SUMMARY:TBD Tournament (open to public)
DESCRIPTION:
URL:https://www.sycamorehillsgolf.com/event/tbd-tournament-open-to-public/
END:VEVENT
BEGIN:VEVENT
DTSTART;TZID=UTC:20260427T080000
DTEND;TZID=UTC:20260427T103000
DTSTAMP:20260426T024101
CREATED:20260407T171826Z
LAST-MODIFIED:20260407T171826Z
UID:10001384-1777276800-1777285800@www.sycamorehillsgolf.com
SUMMARY:Men's Senior League STARTS on Blue
DESCRIPTION:
URL:https://www.sycamorehillsgolf.com/event/mens-senior-league-starts-on-blue/
END:VEVENT
BEGIN:VEVENT
DTSTART;TZID=UTC:20260427T153000
DTEND;TZID=UTC:20260427T203000
DTSTAMP:20260426T024101
CREATED:20260407T171905Z
LAST-MODIFIED:20260407T171905Z
UID:10001385-1777303800-1777321800@www.sycamorehillsgolf.com
SUMMARY:Fun League STARTS on Blue & White
DESCRIPTION:
URL:https://www.sycamorehillsgolf.com/event/fun-league-starts-on-blue-white/
END:VEVENT
BEGIN:VEVENT
DTSTART;TZID=UTC:20260429T153000
DTEND;TZID=UTC:20260429T203000
DTSTAMP:20260426T024101
CREATED:20260407T172009Z
LAST-MODIFIED:20260407T172009Z
UID:10001386-1777476600-1777494600@www.sycamorehillsgolf.com
SUMMARY:VFW League STARTS on Blue & White
DESCRIPTION:
URL:https://www.sycamorehillsgolf.com/event/vfw-league-starts-on-blue-white/
END:VEVENT
END:VCALENDAR