BEGIN:VCALENDAR
VERSION:2.0
PRODID:-//Sycamore Hills Golf Club - ECPv6.15.18//NONSGML v1.0//EN
CALSCALE:GREGORIAN
METHOD:PUBLISH
X-WR-CALNAME:Sycamore Hills Golf Club
X-ORIGINAL-URL:https://www.sycamorehillsgolf.com
X-WR-CALDESC:Events for Sycamore Hills Golf Club
REFRESH-INTERVAL;VALUE=DURATION:PT1H
X-Robots-Tag:noindex
X-PUBLISHED-TTL:PT1H
BEGIN:VTIMEZONE
TZID:UTC
BEGIN:STANDARD
TZOFFSETFROM:+0000
TZOFFSETTO:+0000
TZNAME:UTC
DTSTART:20250101T000000
END:STANDARD
END:VTIMEZONE
BEGIN:VEVENT
DTSTART;TZID=UTC:20260501T170000
DTEND;TZID=UTC:20260501T190000
DTSTAMP:20260426T042323
CREATED:20260123T140654Z
LAST-MODIFIED:20260127T170000Z
UID:10000961-1777654800-1777662000@www.sycamorehillsgolf.com
SUMMARY:Friday Night Couples League (5pm)
DESCRIPTION:
URL:https://www.sycamorehillsgolf.com/event/friday-night-couples-league-5pm/
ATTACH;FMTTYPE=image/png:https://www.sycamorehillsgolf.com/wp-content/uploads/sites/8660/2026/01/Couples-League-Flyer.png
END:VEVENT
BEGIN:VEVENT
DTSTART;TZID=UTC:20260505T080000
DTEND;TZID=UTC:20260505T103000
DTSTAMP:20260426T042323
CREATED:20260407T172117Z
LAST-MODIFIED:20260407T172117Z
UID:10001387-1777968000-1777977000@www.sycamorehillsgolf.com
SUMMARY:Men's Senior League STARTS today on Blue
DESCRIPTION:
URL:https://www.sycamorehillsgolf.com/event/mens-senior-league-starts-today-on-blue/
END:VEVENT
BEGIN:VEVENT
DTSTART;TZID=UTC:20260506T083000
DTEND;TZID=UTC:20260506T083000
DTSTAMP:20260426T042323
CREATED:20260212T152121Z
LAST-MODIFIED:20260212T152121Z
UID:10000979-1778056200-1778056200@www.sycamorehillsgolf.com
SUMMARY:Senior morning League STARTS!
DESCRIPTION:Shotgun start at 8:30am
URL:https://www.sycamorehillsgolf.com/event/senior-morning-league-starts/
END:VEVENT
BEGIN:VEVENT
DTSTART;TZID=UTC:20260506T083000
DTEND;TZID=UTC:20260506T230000
DTSTAMP:20260426T042323
CREATED:20260407T172238Z
LAST-MODIFIED:20260407T172238Z
UID:10001388-1778056200-1778108400@www.sycamorehillsgolf.com
SUMMARY:Men's Welty Senior League STARTS today on Blue
DESCRIPTION:
URL:https://www.sycamorehillsgolf.com/event/mens-welty-senior-league-starts-today-on-blue/
END:VEVENT
BEGIN:VEVENT
DTSTART;TZID=UTC:20260515T080000
DTEND;TZID=UTC:20260515T150000
DTSTAMP:20260426T042323
CREATED:20260107T143725Z
LAST-MODIFIED:20260402T144110Z
UID:10000920-1778832000-1778857200@www.sycamorehillsgolf.com
SUMMARY:Ross HS Hall of Fame Outing
DESCRIPTION:
URL:https://www.sycamorehillsgolf.com/event/ross-hs-hall-of-fame-outing-2/
ATTACH;FMTTYPE=image/jpeg:https://www.sycamorehillsgolf.com/wp-content/uploads/sites/8660/2026/01/7C1A811D-4C48-467B-BDC5-F284B483840B.jpeg
END:VEVENT
BEGIN:VEVENT
DTSTART;TZID=UTC:20260515T170000
DTEND;TZID=UTC:20260515T190000
DTSTAMP:20260426T042323
CREATED:20260123T140724Z
LAST-MODIFIED:20260123T140724Z
UID:10000962-1778864400-1778871600@www.sycamorehillsgolf.com
SUMMARY:Friday Night Couples League (5pm)
DESCRIPTION:
URL:https://www.sycamorehillsgolf.com/event/friday-night-couples-league-5pm-2/
END:VEVENT
BEGIN:VEVENT
DTSTART;TZID=UTC:20260515T170000
DTEND;TZID=UTC:20260515T200000
DTSTAMP:20260426T042323
CREATED:20260212T152241Z
LAST-MODIFIED:20260212T152241Z
UID:10000980-1778864400-1778875200@www.sycamorehillsgolf.com
SUMMARY:Corthell Group Outing & Dinner
DESCRIPTION:
URL:https://www.sycamorehillsgolf.com/event/corthell-group-outing-dinner/
END:VEVENT
BEGIN:VEVENT
DTSTART;TZID=UTC:20260517T073000
DTEND;TZID=UTC:20260517T150000
DTSTAMP:20260426T042323
CREATED:20260107T143759Z
LAST-MODIFIED:20260407T172459Z
UID:10000921-1779003000-1779030000@www.sycamorehillsgolf.com
SUMMARY:Erie County Bar Owner's League
DESCRIPTION:
URL:https://www.sycamorehillsgolf.com/event/tbd-tournament-open-to-public-2/
END:VEVENT
BEGIN:VEVENT
DTSTART;TZID=UTC:20260524T080000
DTEND;TZID=UTC:20260524T170000
DTSTAMP:20260426T042323
CREATED:20260407T172538Z
LAST-MODIFIED:20260407T172538Z
UID:10001389-1779609600-1779642000@www.sycamorehillsgolf.com
SUMMARY:Kraft-Heinz Outing
DESCRIPTION:
URL:https://www.sycamorehillsgolf.com/event/kraft-heinz-outing-3/
END:VEVENT
BEGIN:VEVENT
DTSTART;VALUE=DATE:20260525
DTEND;VALUE=DATE:20260526
DTSTAMP:20260426T042323
CREATED:20260212T152513Z
LAST-MODIFIED:20260212T152513Z
UID:10000982-1779667200-1779753599@www.sycamorehillsgolf.com
SUMMARY:Memorial Day - weekend rates apply
DESCRIPTION:
URL:https://www.sycamorehillsgolf.com/event/memorial-day-weekend-rates-apply/
END:VEVENT
BEGIN:VEVENT
DTSTART;TZID=UTC:20260529T090000
DTEND;TZID=UTC:20260529T120000
DTSTAMP:20260426T042323
CREATED:20260212T152419Z
LAST-MODIFIED:20260212T152419Z
UID:10000981-1780045200-1780056000@www.sycamorehillsgolf.com
SUMMARY:K of C - Outing & Lunch
DESCRIPTION:
URL:https://www.sycamorehillsgolf.com/event/k-of-c-outing-lunch/
END:VEVENT
BEGIN:VEVENT
DTSTART;TZID=UTC:20260529T170000
DTEND;TZID=UTC:20260529T190000
DTSTAMP:20260426T042323
CREATED:20260123T140823Z
LAST-MODIFIED:20260123T140823Z
UID:10000964-1780074000-1780081200@www.sycamorehillsgolf.com
SUMMARY:Friday Night Couples League (5pm)
DESCRIPTION:
URL:https://www.sycamorehillsgolf.com/event/friday-night-couples-league-5pm-4/
END:VEVENT
BEGIN:VEVENT
DTSTART;TZID=UTC:20260530T080000
DTEND;TZID=UTC:20260530T150000
DTSTAMP:20260426T042323
CREATED:20260107T143916Z
LAST-MODIFIED:20260107T143916Z
UID:10000922-1780128000-1780153200@www.sycamorehillsgolf.com
SUMMARY:Streaks Wrestling Outing
DESCRIPTION:
URL:https://www.sycamorehillsgolf.com/event/streaks-wrestling-outing/
END:VEVENT
BEGIN:VEVENT
DTSTART;TZID=UTC:20260530T100000
DTEND;TZID=UTC:20260530T170000
DTSTAMP:20260426T042323
CREATED:20260407T172709Z
LAST-MODIFIED:20260407T172709Z
UID:10001390-1780135200-1780160400@www.sycamorehillsgolf.com
SUMMARY:Zimmerman Building Co Outing
DESCRIPTION:
URL:https://www.sycamorehillsgolf.com/event/zimmerman-building-co-outing/
END:VEVENT
END:VCALENDAR