BEGIN:VCALENDAR
VERSION:2.0
PRODID:-//Sycamore Hills Golf Club - ECPv6.15.18//NONSGML v1.0//EN
CALSCALE:GREGORIAN
METHOD:PUBLISH
X-WR-CALNAME:Sycamore Hills Golf Club
X-ORIGINAL-URL:https://www.sycamorehillsgolf.com
X-WR-CALDESC:Events for Sycamore Hills Golf Club
REFRESH-INTERVAL;VALUE=DURATION:PT1H
X-Robots-Tag:noindex
X-PUBLISHED-TTL:PT1H
BEGIN:VTIMEZONE
TZID:UTC
BEGIN:STANDARD
TZOFFSETFROM:+0000
TZOFFSETTO:+0000
TZNAME:UTC
DTSTART:20250101T000000
END:STANDARD
END:VTIMEZONE
BEGIN:VEVENT
DTSTART;TZID=UTC:20260417T170000
DTEND;TZID=UTC:20260417T173000
DTSTAMP:20260426T041251
CREATED:20260407T171359Z
LAST-MODIFIED:20260407T171359Z
UID:10001382-1776445200-1776447000@www.sycamorehillsgolf.com
SUMMARY:Couples League MEETING in Lounge
DESCRIPTION:
URL:https://www.sycamorehillsgolf.com/event/couples-league-meeting-in-lounge/
END:VEVENT
END:VCALENDAR