BEGIN:VCALENDAR
VERSION:2.0
PRODID:-//Sycamore Hills Golf Club - ECPv6.15.18//NONSGML v1.0//EN
CALSCALE:GREGORIAN
METHOD:PUBLISH
X-WR-CALNAME:Sycamore Hills Golf Club
X-ORIGINAL-URL:https://www.sycamorehillsgolf.com
X-WR-CALDESC:Events for Sycamore Hills Golf Club
REFRESH-INTERVAL;VALUE=DURATION:PT1H
X-Robots-Tag:noindex
X-PUBLISHED-TTL:PT1H
BEGIN:VTIMEZONE
TZID:UTC
BEGIN:STANDARD
TZOFFSETFROM:+0000
TZOFFSETTO:+0000
TZNAME:UTC
DTSTART:20250101T000000
END:STANDARD
END:VTIMEZONE
BEGIN:VEVENT
DTSTART;VALUE=DATE:20260406
DTEND;VALUE=DATE:20260408
DTSTAMP:20260426T042222
CREATED:20260406T191612Z
LAST-MODIFIED:20260406T191639Z
UID:10001380-1775433600-1775606399@www.sycamorehillsgolf.com
SUMMARY:Course Closed - from rain & flooding
DESCRIPTION:
URL:https://www.sycamorehillsgolf.com/event/course-closed-from-rain-flooding/
END:VEVENT
BEGIN:VEVENT
DTSTART;TZID=UTC:20260407T090000
DTEND;TZID=UTC:20260407T100000
DTSTAMP:20260426T042222
CREATED:20260406T191218Z
LAST-MODIFIED:20260406T191311Z
UID:10001379-1775552400-1775556000@www.sycamorehillsgolf.com
SUMMARY:Monday & Tuesday Senior League Meeting in Lounge
DESCRIPTION:
URL:https://www.sycamorehillsgolf.com/event/monday-tuesday-senior-league-meeting-in-lounge/
END:VEVENT
END:VCALENDAR