BEGIN:VCALENDAR
VERSION:2.0
PRODID:-//Sycamore Hills Golf Club - ECPv6.15.18//NONSGML v1.0//EN
CALSCALE:GREGORIAN
METHOD:PUBLISH
X-WR-CALNAME:Sycamore Hills Golf Club
X-ORIGINAL-URL:https://www.sycamorehillsgolf.com
X-WR-CALDESC:Events for Sycamore Hills Golf Club
REFRESH-INTERVAL;VALUE=DURATION:PT1H
X-Robots-Tag:noindex
X-PUBLISHED-TTL:PT1H
BEGIN:VTIMEZONE
TZID:UTC
BEGIN:STANDARD
TZOFFSETFROM:+0000
TZOFFSETTO:+0000
TZNAME:UTC
DTSTART:20250101T000000
END:STANDARD
END:VTIMEZONE
BEGIN:VEVENT
DTSTART;VALUE=DATE:20260401
DTEND;VALUE=DATE:20260406
DTSTAMP:20260426T042222
CREATED:20260402T142602Z
LAST-MODIFIED:20260402T142602Z
UID:10001376-1775001600-1775433599@www.sycamorehillsgolf.com
SUMMARY:Closed due to FLOODED course - call ProShop before coming out 419-332-5716
DESCRIPTION:
URL:https://www.sycamorehillsgolf.com/event/closed-due-to-flooded-course-call-proshop-before-coming-out-419-332-5716/
END:VEVENT
END:VCALENDAR